BEGIN:VCALENDAR
VERSION:2.0
PRODID:spatie/icalendar-generator
DESCRIPTION:Events from Kentucky Council of the Blind
X-WR-CALDESC:Events from Kentucky Council of the Blind
REFRESH-INTERVAL;VALUE=DURATION:PT1440M
X-PUBLISHED-TTL:PT1440M
BEGIN:VTIMEZONE
TZID:Etc/GMT+4
BEGIN:STANDARD
DTSTART:20250711T200000Z
TZOFFSETFROM:-0400
TZOFFSETTO:-0400
END:STANDARD
END:VTIMEZONE
BEGIN:VTIMEZONE
TZID:UTC
BEGIN:STANDARD
DTSTART:20250727T113948Z
TZOFFSETFROM:+0000
TZOFFSETTO:+0000
END:STANDARD
END:VTIMEZONE
BEGIN:VEVENT
UID:1723-38
DTSTAMP:20260423T113948Z
SUMMARY:KCB Next Generation Business Meeting (Zoom line 1)
LOCATION:
ORGANIZER;CN=Rick:MAILTO:Rboggess54@gmail.com
RRULE:FREQ=MONTHLY;BYDAY=1TU;UNTIL=20261231T000000Z
DTSTART;TZID=Etc/GMT+4:20260407T200000
DTEND;TZID=Etc/GMT+4:20260407T210000
X-ALT-DESC;FMTTYPE=TEXT/HTML:Board meetings are open. Anyone interested in 
 chapter activities is welcome. &amp;nbsp\; Join Zoom Meeting https://us02web.z
 oom.us/j/86298896972?pwd=a2duWkU5ZmxadDdET29GalRyNVN0Zz09 &amp;nbsp\; Meeting 
 ID: 862 9889 6972 Passcode: 975864 One tap mobile +16699006833\,\,\,\,8629
 8896972# Dial by your location +1 669 900 6833 Meeting ID: 862 9889 6972 P
 asscode: 975864
CATEGORIES:Zoom only
URL;VALUE=URI:https://kentucky-acb.org/mc-events/kcb-next-generation-busine
 ss-meeting-zoom-line-1/?mc_id=1723
METHOD:PUBLISH
END:VEVENT
END:VCALENDAR