BEGIN:VCALENDAR
VERSION:2.0
PRODID:spatie/icalendar-generator
DESCRIPTION:Events from Kentucky Council of the Blind
X-WR-CALDESC:Events from Kentucky Council of the Blind
REFRESH-INTERVAL;VALUE=DURATION:PT1440M
X-PUBLISHED-TTL:PT1440M
BEGIN:VTIMEZONE
TZID:Etc/GMT+4
BEGIN:STANDARD
DTSTART:20250717T190000Z
TZOFFSETFROM:-0400
TZOFFSETTO:-0400
END:STANDARD
END:VTIMEZONE
BEGIN:VTIMEZONE
TZID:UTC
BEGIN:STANDARD
DTSTART:20250727T113920Z
TZOFFSETFROM:+0000
TZOFFSETTO:+0000
END:STANDARD
END:VTIMEZONE
BEGIN:VEVENT
UID:1747-93
DTSTAMP:20260423T113920Z
SUMMARY:Northern Kentucky Council Meeting
LOCATION:
ORGANIZER;CN=Rick:MAILTO:Rboggess54@gmail.com
RRULE:FREQ=MONTHLY;BYDAY=2MO;UNTIL=20261231T000000Z
DTSTART;TZID=Etc/GMT+4:20260413T190000
DTEND;TZID=Etc/GMT+4:20260413T200000
X-ALT-DESC;FMTTYPE=TEXT/HTML:Call 605-475-4700 and enter code 155619. More 
 information\, call 859-781-7369 or northernkentucky@kentucky-acb.org.
CATEGORIES:General
URL;VALUE=URI:https://kentucky-acb.org/mc-events/northern-kentucky-council-
 meeting/?mc_id=1747
METHOD:PUBLISH
END:VEVENT
END:VCALENDAR