BEGIN:VCALENDAR
VERSION:2.0
PRODID:spatie/icalendar-generator
DESCRIPTION:Events from Kentucky Council of the Blind
X-WR-CALDESC:Events from Kentucky Council of the Blind
REFRESH-INTERVAL;VALUE=DURATION:PT1440M
X-PUBLISHED-TTL:PT1440M
BEGIN:VTIMEZONE
TZID:Etc/GMT+4
BEGIN:STANDARD
DTSTART:20250715T100000Z
TZOFFSETFROM:-0400
TZOFFSETTO:-0400
END:STANDARD
END:VTIMEZONE
BEGIN:VTIMEZONE
TZID:UTC
BEGIN:STANDARD
DTSTART:20250727T113909Z
TZOFFSETFROM:+0000
TZOFFSETTO:+0000
END:STANDARD
END:VTIMEZONE
BEGIN:VEVENT
UID:1759-47
DTSTAMP:20260423T113909Z
SUMMARY:Your Focus on Low Vision
LOCATION:
ORGANIZER;CN=Rick:MAILTO:Rboggess54@gmail.com
RRULE:FREQ=MONTHLY;BYDAY=2SA;UNTIL=20261231T000000Z
DTSTART;TZID=Etc/GMT+4:20260411T100000
DTEND;TZID=Etc/GMT+4:20260411T123000
X-ALT-DESC;FMTTYPE=TEXT/HTML:Join our in-person group meetings on the secon
 d Saturday of the month at United Crescent Hill Ministries\, 150 S. State 
 Street in Louisville. We will have a light breakfast followed by an opport
 unity to share ideas and information\, see product demonstrations and make
  new friends. (Doors open at 9:30.) KCCLV will continue to hold its&amp;hellip
 \;
CATEGORIES:In-person only
URL;VALUE=URI:https://kentucky-acb.org/mc-events/your-focus-on-low-vision/?
 mc_id=1759
METHOD:PUBLISH
END:VEVENT
END:VCALENDAR