BEGIN:VCALENDAR
VERSION:2.0
PRODID:spatie/icalendar-generator
DESCRIPTION:Events from Kentucky Council of the Blind
X-WR-CALDESC:Events from Kentucky Council of the Blind
REFRESH-INTERVAL;VALUE=DURATION:PT1440M
X-PUBLISHED-TTL:PT1440M
BEGIN:VTIMEZONE
TZID:Etc/GMT+4
BEGIN:STANDARD
DTSTART:20250705T200000Z
TZOFFSETFROM:-0400
TZOFFSETTO:-0400
END:STANDARD
END:VTIMEZONE
BEGIN:VTIMEZONE
TZID:UTC
BEGIN:STANDARD
DTSTART:20250727T115210Z
TZOFFSETFROM:+0000
TZOFFSETTO:+0000
END:STANDARD
END:VTIMEZONE
BEGIN:VEVENT
UID:1844-27
DTSTAMP:20260423T115210Z
SUMMARY:Kentucky Council of Citizens With Low Vision Conference Call (Zoom 
 line 1)
LOCATION:
ORGANIZER;CN=Rick:MAILTO:Rboggess54@gmail.com
RRULE:FREQ=MONTHLY;BYDAY=1WE;UNTIL=20261231T000000Z
DTSTART;TZID=Etc/GMT+4:20260401T200000
DTEND;TZID=Etc/GMT+4:20260401T210000
X-ALT-DESC;FMTTYPE=TEXT/HTML:Individuals statewide experiencing low vision 
 are encouraged to ask questions and share information. Join Zoom Meeting h
 ttps://us02web.zoom.us/j/86298896972?pwd=a2duWkU5ZmxadDdET29GalRyNVN0Zz09 
 Meeting ID: 862 9889 6972 Passcode: 975864 One tap mobile +16699006833\,\,
 \,\,86298896972# Dial by your location +1 669 900 6833 Meeting ID: 862 988
 9 6972 Passcode: 975864
CATEGORIES:Zoom only
URL;VALUE=URI:https://kentucky-acb.org/mc-events/kentucky-council-of-citize
 ns-with-low-vision-conference-call-zoom-line-1/?mc_id=1844
METHOD:PUBLISH
END:VEVENT
END:VCALENDAR