BEGIN:VCALENDAR
VERSION:2.0
PRODID:spatie/icalendar-generator
DESCRIPTION:Events from Kentucky Council of the Blind
X-WR-CALDESC:Events from Kentucky Council of the Blind
REFRESH-INTERVAL;VALUE=DURATION:PT1440M
X-PUBLISHED-TTL:PT1440M
BEGIN:VTIMEZONE
TZID:Etc/GMT+4
BEGIN:STANDARD
DTSTART:20250716T210000Z
TZOFFSETFROM:-0400
TZOFFSETTO:-0400
END:STANDARD
END:VTIMEZONE
BEGIN:VTIMEZONE
TZID:UTC
BEGIN:STANDARD
DTSTART:20250727T113909Z
TZOFFSETFROM:+0000
TZOFFSETTO:+0000
END:STANDARD
END:VTIMEZONE
BEGIN:VEVENT
UID:1868-99
DTSTAMP:20260423T113909Z
SUMMARY:GLCB Education\, Activities and Technology (EAT) Committee (Zoom li
 ne 2)
LOCATION:
ORGANIZER;CN=Rick:MAILTO:Rboggess54@gmail.com
RRULE:FREQ=MONTHLY;BYDAY=2SU;UNTIL=20261231T000000Z
DTSTART;TZID=Etc/GMT+4:20260412T210000
DTEND;TZID=Etc/GMT+4:20260412T220000
X-ALT-DESC;FMTTYPE=TEXT/HTML:&amp;nbsp\; Join Zoom Meeting https://us02web.zoom
 .us/j/84647426493?pwd=MEVGcWNDSmlRbzdzanBpZk1iMi85UT09 &amp;nbsp\; Meeting ID:
  846 4742 6493 Passcode: 975865 &amp;nbsp\; One tap mobile +16699006833\,\,846
 47426493#\,\,\,\,975865# &amp;nbsp\; Dial by your location +1 669 900 6833 Mee
 ting ID: 846 4742 6493 Passcode: 975865
CATEGORIES:General
URL;VALUE=URI:https://kentucky-acb.org/mc-events/glcb-education-activities-
 and-technology-eat-committee-zoom-line-2/?mc_id=1868
METHOD:PUBLISH
END:VEVENT
END:VCALENDAR