BEGIN:VCALENDAR
VERSION:2.0
PRODID:spatie/icalendar-generator
DESCRIPTION:Events from Kentucky Council of the Blind
X-WR-CALDESC:Events from Kentucky Council of the Blind
REFRESH-INTERVAL;VALUE=DURATION:PT1440M
X-PUBLISHED-TTL:PT1440M
BEGIN:VTIMEZONE
TZID:Etc/GMT+4
BEGIN:STANDARD
DTSTART:20250721T170000Z
TZOFFSETFROM:-0400
TZOFFSETTO:-0400
END:STANDARD
END:VTIMEZONE
BEGIN:VTIMEZONE
TZID:UTC
BEGIN:STANDARD
DTSTART:20250727T113921Z
TZOFFSETFROM:+0000
TZOFFSETTO:+0000
END:STANDARD
END:VTIMEZONE
BEGIN:VEVENT
UID:1904-84
DTSTAMP:20260423T113921Z
SUMMARY:GLCB Roundabout Hybrid Meeting (Zoom line 1)
LOCATION:
ORGANIZER;CN=Rick:MAILTO:Rboggess54@gmail.com
RRULE:FREQ=MONTHLY;BYDAY=3FR;UNTIL=20261231T000000Z
DTSTART;TZID=Etc/GMT+4:20260417T170000
DTEND;TZID=Etc/GMT+4:20260417T200000
X-ALT-DESC;FMTTYPE=TEXT/HTML:5-8 PM (in person\, 6-8 PM on Zoom). 5-6\, din
 ner ($6 per person) and bargain table\; 6-8\, join the in-person meeting o
 n Zoom as we play bingo. United Crescent Hill Ministries\, 150 S. State St
 reet\, Louisville. Information and sign up\, 502-895-4598. &amp;nbsp\; Join Zo
 om Meeting https://us02web.zoom.us/j/86298896972?pwd=a2duWkU5ZmxadDdET29Ga
 lRyNVN0Zz09 &amp;nbsp\; Meeting ID: 862 9889 6972 Passcode: 975864 &amp;nbsp\;&amp;hel
 lip\;
CATEGORIES:Hybrid event
URL;VALUE=URI:https://kentucky-acb.org/mc-events/glcb-roundabout-hybrid-mee
 ting-zoom-line-1-2/?mc_id=1904
METHOD:PUBLISH
END:VEVENT
END:VCALENDAR