BEGIN:VCALENDAR
VERSION:2.0
PRODID:spatie/icalendar-generator
DESCRIPTION:Events from Kentucky Council of the Blind
X-WR-CALDESC:Events from Kentucky Council of the Blind
REFRESH-INTERVAL;VALUE=DURATION:PT1440M
X-PUBLISHED-TTL:PT1440M
BEGIN:VTIMEZONE
TZID:Etc/GMT+4
BEGIN:STANDARD
DTSTART:20250722T110000Z
TZOFFSETFROM:-0400
TZOFFSETTO:-0400
END:STANDARD
END:VTIMEZONE
BEGIN:VTIMEZONE
TZID:UTC
BEGIN:STANDARD
DTSTART:20250727T115617Z
TZOFFSETFROM:+0000
TZOFFSETTO:+0000
END:STANDARD
END:VTIMEZONE
BEGIN:VEVENT
UID:1916-50
DTSTAMP:20260423T115617Z
SUMMARY:Tri-State Library Users Virtual Book Club and Business Meeting (Zoo
 m line 1)
LOCATION:
ORGANIZER;CN=Rick:MAILTO:Rboggess54@gmail.com
RRULE:FREQ=MONTHLY;BYDAY=3SA;UNTIL=20261231T000000Z
DTSTART;TZID=Etc/GMT+4:20260418T110000
DTEND;TZID=Etc/GMT+4:20260418T120000
X-ALT-DESC;FMTTYPE=TEXT/HTML:Everyone is welcome. &amp;nbsp\; Join Zoom Meeting
  https://us02web.zoom.us/j/86298896972?pwd=a2duWkU5ZmxadDdET29GalRyNVN0Zz0
 9 &amp;nbsp\; Meeting ID: 862 9889 6972 Passcode: 975864 One tap mobile +16699
 006833\,\,\,\,86298896972# Dial by your location +1 669 900 6833 Meeting I
 D: 862 9889 6972 Passcode: 975864
CATEGORIES:Zoom only
URL;VALUE=URI:https://kentucky-acb.org/mc-events/tri-state-library-users-vi
 rtual-book-club-and-business-meeting-zoom-line-1/?mc_id=1916
METHOD:PUBLISH
END:VEVENT
END:VCALENDAR