BEGIN:VCALENDAR
VERSION:2.0
PRODID:spatie/icalendar-generator
DESCRIPTION:Events from Kentucky Council of the Blind
X-WR-CALDESC:Events from Kentucky Council of the Blind
REFRESH-INTERVAL;VALUE=DURATION:PT1440M
X-PUBLISHED-TTL:PT1440M
BEGIN:VTIMEZONE
TZID:Etc/GMT+4
BEGIN:STANDARD
DTSTART:20250723T210000Z
TZOFFSETFROM:-0400
TZOFFSETTO:-0400
END:STANDARD
END:VTIMEZONE
BEGIN:VTIMEZONE
TZID:UTC
BEGIN:STANDARD
DTSTART:20250727T113909Z
TZOFFSETFROM:+0000
TZOFFSETTO:+0000
END:STANDARD
END:VTIMEZONE
BEGIN:VEVENT
UID:1932-40
DTSTAMP:20260423T113909Z
SUMMARY:ACB Families Meeting (Zoom line 1)
LOCATION:
ORGANIZER;CN=Rick:MAILTO:Rboggess54@gmail.com
RRULE:FREQ=MONTHLY;BYDAY=3SU;UNTIL=20261231T000000Z
DTSTART;TZID=Etc/GMT+4:20260419T210000
DTEND;TZID=Etc/GMT+4:20260419T220000
X-ALT-DESC;FMTTYPE=TEXT/HTML:Join us for an opportunity to share informatio
 n and ideas. Your questions welcome. &amp;nbsp\; Join Zoom Meeting https://us0
 2web.zoom.us/j/86298896972?pwd=a2duWkU5ZmxadDdET29GalRyNVN0Zz09 &amp;nbsp\; Me
 eting ID: 862 9889 6972 Passcode: 975864 One tap mobile +16699006833\,\,\,
 \,86298896972# Dial by your location +1 669 900 6833 Meeting ID: 862 9889 
 6972
CATEGORIES:General
URL;VALUE=URI:https://kentucky-acb.org/mc-events/acb-families-meeting-zoom-
 line-1/?mc_id=1932
METHOD:PUBLISH
END:VEVENT
END:VCALENDAR