BEGIN:VCALENDAR
VERSION:2.0
PRODID:spatie/icalendar-generator
DESCRIPTION:Events from Kentucky Council of the Blind
X-WR-CALDESC:Events from Kentucky Council of the Blind
REFRESH-INTERVAL;VALUE=DURATION:PT1440M
X-PUBLISHED-TTL:PT1440M
BEGIN:VTIMEZONE
TZID:Etc/GMT+4
BEGIN:STANDARD
DTSTART:20250728T180000Z
TZOFFSETFROM:-0400
TZOFFSETTO:-0400
END:STANDARD
END:VTIMEZONE
BEGIN:VTIMEZONE
TZID:UTC
BEGIN:STANDARD
DTSTART:20250727T113947Z
TZOFFSETFROM:+0000
TZOFFSETTO:+0000
END:STANDARD
END:VTIMEZONE
BEGIN:VEVENT
UID:1961-112
DTSTAMP:20260423T113947Z
SUMMARY:GLCB Roundabout by Phone (Zoom line 1)
LOCATION:
ORGANIZER;CN=Rick:MAILTO:Rboggess54@gmail.com
RRULE:FREQ=MONTHLY;BYDAY=4FR;UNTIL=20261231T000000Z
DTSTART;TZID=Etc/GMT+4:20260424T180000
DTEND;TZID=Etc/GMT+4:20260424T200000
X-ALT-DESC;FMTTYPE=TEXT/HTML:Statewide opportunity to discuss technology an
 d share what you have been reading in Page Turners. Information\, 502-895-
 4598. &amp;nbsp\; Join Zoom Meeting https://us02web.zoom.us/j/86298896972?pwd=
 a2duWkU5ZmxadDdET29GalRyNVN0Zz09 &amp;nbsp\; Meeting ID: 862 9889 6972 Passcod
 e: 975864 One tap mobile +16699006833\,\,\,\,86298896972# Dial by your loc
 ation +1 669 900 6833 Meeting ID: 862 9889 6972 Passcode: 975864
CATEGORIES:General
URL;VALUE=URI:https://kentucky-acb.org/mc-events/glcb-roundabout-by-phone-z
 oom-line-1-3/?mc_id=1961
METHOD:PUBLISH
END:VEVENT
END:VCALENDAR