BEGIN:VCALENDAR
VERSION:2.0
PRODID:spatie/icalendar-generator
DESCRIPTION:Events from Kentucky Council of the Blind
X-WR-CALDESC:Events from Kentucky Council of the Blind
REFRESH-INTERVAL;VALUE=DURATION:PT1440M
X-PUBLISHED-TTL:PT1440M
BEGIN:VTIMEZONE
TZID:Etc/GMT+4
BEGIN:STANDARD
DTSTART:20250510T140000Z
TZOFFSETFROM:-0400
TZOFFSETTO:-0400
END:STANDARD
END:VTIMEZONE
BEGIN:VTIMEZONE
TZID:UTC
BEGIN:STANDARD
DTSTART:20250727T151133Z
TZOFFSETFROM:+0000
TZOFFSETTO:+0000
END:STANDARD
END:VTIMEZONE
BEGIN:VEVENT
UID:2075-26
DTSTAMP:20260423T151133Z
SUMMARY:South Central Kentucky Council of the Blind Social Hour - 2-3 PM Ce
 ntral Time
LOCATION:
ORGANIZER;CN=Rick:MAILTO:Rboggess54@gmail.com
RRULE:FREQ=MONTHLY;BYDAY=1WE;UNTIL=20261231T000000Z
DTSTART;TZID=Etc/GMT+4:20260204T140000
DTEND;TZID=Etc/GMT+4:20260204T150000
X-ALT-DESC;FMTTYPE=TEXT/HTML:Join our Bowling Green chapter on Zoom to hear
  interesting speakers\, share information and have lots of fun. Join Zoom 
 Meeting https://us06web.zoom.us/j/7636894411?pwd=WStZNDNLQ2lteXk5Z0xlVXYrU
 lE3Zz09 Meeting ID: 763-6894-411 Passcode: 25852 One tap mobile +166990068
 33\,\,\,\,7636894411# Dial by your location +1 669 900 6833 Meeting ID: 76
 3-6894-411 Passcode: 25852
CATEGORIES:General
URL;VALUE=URI:https://kentucky-acb.org/mc-events/south-central-kentucky-cou
 ncil-of-the-blind-social-hour-2-3-pm-central-time/?mc_id=2075
METHOD:PUBLISH
END:VEVENT
END:VCALENDAR