BEGIN:VCALENDAR
VERSION:2.0
PRODID:spatie/icalendar-generator
DESCRIPTION:Events from Kentucky Council of the Blind
X-WR-CALDESC:Events from Kentucky Council of the Blind
REFRESH-INTERVAL;VALUE=DURATION:PT1440M
X-PUBLISHED-TTL:PT1440M
BEGIN:VTIMEZONE
TZID:Etc/GMT+4
BEGIN:STANDARD
DTSTART:20250815T130000Z
TZOFFSETFROM:-0400
TZOFFSETTO:-0400
END:STANDARD
END:VTIMEZONE
BEGIN:VTIMEZONE
TZID:UTC
BEGIN:STANDARD
DTSTART:20250727T133535Z
TZOFFSETFROM:+0000
TZOFFSETTO:+0000
END:STANDARD
END:VTIMEZONE
BEGIN:VEVENT
UID:1772-77
DTSTAMP:20260423T133535Z
SUMMARY:Support Alliance of the Visually Impaired (SAVI) Hybrid Meeting - 1
  PM Central Time (Zoom line 1)
LOCATION:
ORGANIZER;CN=Rick:MAILTO:Rboggess54@gmail.com
RRULE:FREQ=MONTHLY;BYDAY=2TU;UNTIL=20261231T000000Z
DTSTART;TZID=Etc/GMT+4:20260512T130000
DTEND;TZID=Etc/GMT+4:20260512T150000
X-ALT-DESC;FMTTYPE=TEXT/HTML:Wesleyan Heights United Methodist Church\, 121
 5 Scherm Road in Owensboro and on Zoom. Mark your calendar and plan to joi
 n us for interesting speakers\, opportunities to share ideas/information a
 nd make new friends. Questions\, 270-684-4418 or President Scott Heads at 
 270-925-0183. &amp;nbsp\; Join Zoom Meeting https://us02web.zoom.us/j/86298896
 972?pwd=a2duWkU5ZmxadDdET29GalRyNVN0Zz09 &amp;nbsp\; Meeting ID: 862 9889 6972
  Passcode: 975864 &amp;nbsp\; One&amp;hellip\;
CATEGORIES:Hybrid event
URL;VALUE=URI:https://kentucky-acb.org/mc-events/support-alliance-of-the-vi
 sually-impaired-savi-hybrid-meeting-1-pm-central-time-zoom-line-1/?mc_id=1
 772
METHOD:PUBLISH
END:VEVENT
END:VCALENDAR