BEGIN:VCALENDAR
VERSION:2.0
PRODID:spatie/icalendar-generator
DESCRIPTION:Events from Kentucky Council of the Blind
X-WR-CALDESC:Events from Kentucky Council of the Blind
REFRESH-INTERVAL;VALUE=DURATION:PT1440M
X-PUBLISHED-TTL:PT1440M
BEGIN:VTIMEZONE
TZID:Etc/GMT+4
BEGIN:STANDARD
DTSTART:20250731T190000Z
TZOFFSETFROM:-0400
TZOFFSETTO:-0400
END:STANDARD
END:VTIMEZONE
BEGIN:VTIMEZONE
TZID:UTC
BEGIN:STANDARD
DTSTART:20250727T133605Z
TZOFFSETFROM:+0000
TZOFFSETTO:+0000
END:STANDARD
END:VTIMEZONE
BEGIN:VEVENT
UID:1944-78
DTSTAMP:20260423T133605Z
SUMMARY:Guide Dog Users of Kentuckiana Meeting (Zoom line 1)
LOCATION:
ORGANIZER;CN=Rick:MAILTO:Rboggess54@gmail.com
RRULE:FREQ=MONTHLY;BYDAY=4MO;UNTIL=20261231T000000Z
DTSTART;TZID=Etc/GMT+4:20260427T190000
DTEND;TZID=Etc/GMT+4:20260427T200000
X-ALT-DESC;FMTTYPE=TEXT/HTML:We welcome anyone with an interest in improvin
 g public understanding about guide dogs and their blind handlers. Informat
 ion\, 502-895-4598. &amp;nbsp\; Join Zoom Meeting https://us02web.zoom.us/j/86
 298896972?pwd=a2duWkU5ZmxadDdET29GalRyNVN0Zz09 &amp;nbsp\; Meeting ID: 862 988
 9 6972 Passcode: 975864 One tap mobile +16699006833\,\,\,\,86298896972# Di
 al by your location +1 669 900 6833 Meeting ID: 862 9889 6972 Passcode: 97
 5864
CATEGORIES:Zoom only
URL;VALUE=URI:https://kentucky-acb.org/mc-events/guide-dog-users-of-kentuck
 iana-meeting-zoom-line-1/?mc_id=1944
METHOD:PUBLISH
END:VEVENT
END:VCALENDAR