BEGIN:VCALENDAR
VERSION:2.0
PRODID:spatie/icalendar-generator
DESCRIPTION:Events from Kentucky Council of the Blind
X-WR-CALDESC:Events from Kentucky Council of the Blind
REFRESH-INTERVAL;VALUE=DURATION:PT1440M
X-PUBLISHED-TTL:PT1440M
BEGIN:VTIMEZONE
TZID:Etc/GMT+4
BEGIN:STANDARD
DTSTART:20250714T170000Z
TZOFFSETFROM:-0400
TZOFFSETTO:-0400
END:STANDARD
END:VTIMEZONE
BEGIN:VTIMEZONE
TZID:UTC
BEGIN:STANDARD
DTSTART:20250727T113803Z
TZOFFSETFROM:+0000
TZOFFSETTO:+0000
END:STANDARD
END:VTIMEZONE
BEGIN:VEVENT
UID:2117-120
DTSTAMP:20260423T113803Z
SUMMARY:GLCB Quarterly Meeting (Zoom line 1)
LOCATION:
ORGANIZER;CN=Rick:MAILTO:Rboggess54@gmail.com
DTSTART;TZID=Etc/GMT+4:20260410T170000
DTEND;TZID=Etc/GMT+4:20260410T200000
X-ALT-DESC;FMTTYPE=TEXT/HTML:5-8 PM (in person\, 6-8 PM on Zoom). 5-6\, din
 ner ($6 per person)\; 6-8--TARC update and questions\, speaker and electio
 ns. United Crescent Hill Ministries\, 150 S. State Street\, Louisville. In
 formation and sign up\, 502-895-4598. &amp;nbsp\; Join Zoom Meeting https://us
 02web.zoom.us/j/86298896972?pwd=a2duWkU5ZmxadDdET29GalRyNVN0Zz09 &amp;nbsp\; M
 eeting ID: 862 9889 6972 Passcode: 975864 &amp;nbsp\; One tap mobile +16699006
 833\,\,\,\,86298896972# &amp;nbsp\; Dial by&amp;hellip\;
CATEGORIES:Zoom only
URL;VALUE=URI:https://kentucky-acb.org/mc-events/glcb-quarterly-meeting-zoo
 m-line-1/
METHOD:PUBLISH
END:VEVENT
END:VCALENDAR