BEGIN:VCALENDAR
VERSION:2.0
PRODID:spatie/icalendar-generator
DESCRIPTION:Events from Kentucky Council of the Blind
X-WR-CALDESC:Events from Kentucky Council of the Blind
REFRESH-INTERVAL;VALUE=DURATION:PT1440M
X-PUBLISHED-TTL:PT1440M
BEGIN:VTIMEZONE
TZID:Etc/GMT+4
BEGIN:STANDARD
DTSTART:20250707T180000Z
TZOFFSETFROM:-0400
TZOFFSETTO:-0400
END:STANDARD
END:VTIMEZONE
BEGIN:VTIMEZONE
TZID:UTC
BEGIN:STANDARD
DTSTART:20250727T113803Z
TZOFFSETFROM:+0000
TZOFFSETTO:+0000
END:STANDARD
END:VTIMEZONE
BEGIN:VEVENT
UID:2118-113
DTSTAMP:20260423T113803Z
SUMMARY:GLCB Roundabout by Phone (Zoom line 1)
LOCATION:
ORGANIZER;CN=Rick:MAILTO:Rboggess54@gmail.com
DTSTART;TZID=Etc/GMT+4:20260403T180000
DTEND;TZID=Etc/GMT+4:20260403T200000
X-ALT-DESC;FMTTYPE=TEXT/HTML:Roundabout will be virtual this week. We hope 
 you will join us on Zoom as we celebrate Easter and the coming of spring. 
 There’s lots happening at Roundabout this week\; be there to get in on t
 he fun. Roundabout is sponsored by the Greater Louisville Council of the B
 lind and everyone is invited\, no matter&amp;hellip\;
CATEGORIES:Hybrid event,  Zoom only
URL;VALUE=URI:https://kentucky-acb.org/mc-events/glcb-roundabout-by-phone-z
 oom-line-1-4/
METHOD:PUBLISH
END:VEVENT
END:VCALENDAR