BEGIN:VCALENDAR
VERSION:2.0
PRODID:spatie/icalendar-generator
DESCRIPTION:Events from Kentucky Council of the Blind
X-WR-CALDESC:Events from Kentucky Council of the Blind
REFRESH-INTERVAL;VALUE=DURATION:PT1440M
X-PUBLISHED-TTL:PT1440M
BEGIN:VTIMEZONE
TZID:Etc/GMT+4
BEGIN:STANDARD
DTSTART:20250716T133000Z
TZOFFSETFROM:-0400
TZOFFSETTO:-0400
END:STANDARD
END:VTIMEZONE
BEGIN:VTIMEZONE
TZID:UTC
BEGIN:STANDARD
DTSTART:20250727T113804Z
TZOFFSETFROM:+0000
TZOFFSETTO:+0000
END:STANDARD
END:VTIMEZONE
BEGIN:VEVENT
UID:2121-122
DTSTAMP:20260423T113804Z
SUMMARY:South Central KY Council Hybrid Meeting
LOCATION:
ORGANIZER;CN=Rick:MAILTO:Rboggess54@gmail.com
DTSTART;TZID=Etc/GMT+4:20260412T133000
DTEND;TZID=Etc/GMT+4:20260412T153000
X-ALT-DESC;FMTTYPE=TEXT/HTML:Join us in person at 1:30 (Central Time) at th
 e Community Neighborhood Center located at 707 Main Street in Bowling Gree
 n. If you cannot be there\, join us on Zoom at around 2 PM to hear our won
 derful speaker who will be discussing fire prevention and safety. For more
  information and to RSVP\, contact Teresa&amp;hellip\;
CATEGORIES:General
URL;VALUE=URI:https://kentucky-acb.org/mc-events/south-central-ky-council-h
 ybrid-meeting/
METHOD:PUBLISH
END:VEVENT
END:VCALENDAR