BEGIN:VCALENDAR
VERSION:2.0
PRODID:spatie/icalendar-generator
DESCRIPTION:Events from Kentucky Council of the Blind
X-WR-CALDESC:Events from Kentucky Council of the Blind
REFRESH-INTERVAL;VALUE=DURATION:PT1440M
X-PUBLISHED-TTL:PT1440M
BEGIN:VTIMEZONE
TZID:Etc/GMT+4
BEGIN:STANDARD
DTSTART:20250805T130000Z
TZOFFSETFROM:-0400
TZOFFSETTO:-0400
END:STANDARD
END:VTIMEZONE
BEGIN:VTIMEZONE
TZID:UTC
BEGIN:STANDARD
DTSTART:20250727T120345Z
TZOFFSETFROM:+0000
TZOFFSETTO:+0000
END:STANDARD
END:VTIMEZONE
BEGIN:VEVENT
UID:2123-123
DTSTAMP:20260423T120345Z
SUMMARY:GLCB Derby Party
LOCATION:
ORGANIZER;CN=Rick:MAILTO:Rboggess54@gmail.com
DTSTART;TZID=Etc/GMT+4:20260502T130000
DTEND;TZID=Etc/GMT+4:20260502T200000
X-ALT-DESC;FMTTYPE=TEXT/HTML:In-person at United Crescent Hill Ministries a
 t 150 South State Street in Louisville. Doors open at 1 PM with dinner ($6
 /person). Bingo\, derby trivia and other fun games. Derby jackpots with wi
 nners designated after the derby. Call 502-895-4598 to let us know if you 
 plan to attend and if you plan to eat. Schedule return&amp;hellip\;
CATEGORIES:General
URL;VALUE=URI:https://kentucky-acb.org/mc-events/glcb-derby-party/
METHOD:PUBLISH
END:VEVENT
END:VCALENDAR