BEGIN:VCALENDAR
VERSION:2.0
PRODID:spatie/icalendar-generator
DESCRIPTION:Events from Kentucky Council of the Blind
X-WR-CALDESC:Events from Kentucky Council of the Blind
REFRESH-INTERVAL;VALUE=DURATION:PT1440M
X-PUBLISHED-TTL:PT1440M
BEGIN:VTIMEZONE
TZID:Etc/GMT+4
BEGIN:STANDARD
DTSTART:20250722T110000Z
TZOFFSETFROM:-0400
TZOFFSETTO:-0400
END:STANDARD
END:VTIMEZONE
BEGIN:VTIMEZONE
TZID:UTC
BEGIN:STANDARD
DTSTART:20250727T113840Z
TZOFFSETFROM:+0000
TZOFFSETTO:+0000
END:STANDARD
END:VTIMEZONE
BEGIN:VEVENT
UID:2125-76
DTSTAMP:20260423T113840Z
SUMMARY:Eastern Kentucky Council of the Blind Meeting
LOCATION:
ORGANIZER;CN=Rick:MAILTO:Rboggess54@gmail.com
DTSTART;TZID=Etc/GMT+4:20260418T110000
DTEND;TZID=Etc/GMT+4:20260418T130000
X-ALT-DESC;FMTTYPE=TEXT/HTML:In-person meeting at the Breathitt County Libr
 ary in Jackson. Don't miss this chance to get together\, plan for future c
 hapter activities\, share information and welcom new members. To find out 
 more about what's planned or For more information about EKCB\, call Presid
 ent Ronnie Patrick at 606-671-0226\, or contact the KCB office at 502-895-
 4598.
CATEGORIES:General
URL;VALUE=URI:https://kentucky-acb.org/mc-events/eastern-kentucky-council-o
 f-the-blind-meeting/
METHOD:PUBLISH
END:VEVENT
END:VCALENDAR